BEGIN:VCALENDAR
VERSION:2.0
PRODID:-//Plone.org//NONSGML plone.app.event//EN
X-WR-TIMEZONE:Brazil/East
BEGIN:VEVENT
SUMMARY:PRESTAÇÃO DE CONTAS DO GABINETE DO VEREADOR MAJOR VITOR HUGO.
DTSTART;TZID=Brazil/East;VALUE=DATE-TIME:20251208T190000
DTEND;TZID=Brazil/East;VALUE=DATE-TIME:20251208T220000
DTSTAMP;VALUE=DATE-TIME:20260422T165936Z
UID:ef6d8ee0b535482b97de51d311bf2970@www.goiania.go.leg.br
CONTACT:VEREADOR MAJOR VITOR HUGO
CREATED;VALUE=DATE-TIME:20250902T131309Z
LAST-MODIFIED;VALUE=DATE-TIME:20250902T131332Z
LOCATION:AUDITÓRIO CARLOS EURICO
URL:https://www.goiania.go.leg.br/sala-de-imprensa/eventos/prestacao-de-co
 ntas-do-gabinete-do-vereador-major-vitor-hugo
END:VEVENT
BEGIN:VTIMEZONE
TZID:Brazil/East
X-LIC-LOCATION:Brazil/East
BEGIN:DAYLIGHT
DTSTART;VALUE=DATE-TIME:20251019T010000
TZNAME:BRST
TZOFFSETFROM:-0300
TZOFFSETTO:-0200
END:DAYLIGHT
END:VTIMEZONE
END:VCALENDAR
