BEGIN:VCALENDAR
VERSION:2.0
PRODID:-//Plone.org//NONSGML plone.app.event//EN
X-WR-TIMEZONE:Brazil/East
BEGIN:VEVENT
SUMMARY:PRESTAÇÃO DE CONTAS DO 3º QUADRIMESTRE DE 2019.
DTSTART;TZID=Brazil/East;VALUE=DATE-TIME:20200217T080000
DTEND;TZID=Brazil/East;VALUE=DATE-TIME:20200217T120000
DTSTAMP;VALUE=DATE-TIME:20260421T095601Z
UID:b9b1816d40954f1c9c552f862f7a4e0e@www.goiania.go.leg.br
CONTACT:VEREADOR LUCAS KITÃO
CREATED;VALUE=DATE-TIME:20200207T130215Z
LAST-MODIFIED;VALUE=DATE-TIME:20200207T130257Z
LOCATION:PLENÁRIO TRAJANO GUIMARÃES
URL:https://www.goiania.go.leg.br/sala-de-imprensa/eventos/prestacao-de-co
 ntas-do-3o-quadrimestre-de-2019
END:VEVENT
BEGIN:VTIMEZONE
TZID:Brazil/East
X-LIC-LOCATION:Brazil/East
BEGIN:STANDARD
DTSTART;VALUE=DATE-TIME:20200215T230000
TZNAME:BRT
TZOFFSETFROM:-0200
TZOFFSETTO:-0300
END:STANDARD
END:VTIMEZONE
END:VCALENDAR
