BEGIN:VCALENDAR
VERSION:2.0
PRODID:-//Plone.org//NONSGML plone.app.event//EN
X-WR-TIMEZONE:Brazil/East
BEGIN:VEVENT
SUMMARY:PREMIAÇÃO DA EQUIPE DE ATLETISMO - ATLETAS DESTAQUES 2021.
DTSTART;TZID=Brazil/East;VALUE=DATE-TIME:20220430T080000
DTEND;TZID=Brazil/East;VALUE=DATE-TIME:20220430T120000
DTSTAMP;VALUE=DATE-TIME:20260419T094044Z
UID:9097f120663a4f0791b4c34b42c1e0fe@www.goiania.go.leg.br
CONTACT:VEREADOR PASTOR WILSON
CREATED;VALUE=DATE-TIME:20220406T200100Z
LAST-MODIFIED;VALUE=DATE-TIME:20220406T200119Z
LOCATION:AUDITÓRIO CARLOS EURICO
URL:https://www.goiania.go.leg.br/sala-de-imprensa/eventos/premiacao-da-eq
 uipe-de-atletismo-atletas-destaques-2021
END:VEVENT
BEGIN:VTIMEZONE
TZID:Brazil/East
X-LIC-LOCATION:Brazil/East
BEGIN:STANDARD
DTSTART;VALUE=DATE-TIME:20220219T230000
TZNAME:BRT
TZOFFSETFROM:-0200
TZOFFSETTO:-0300
END:STANDARD
END:VTIMEZONE
END:VCALENDAR
