BEGIN:VCALENDAR
VERSION:2.0
PRODID:-//Plone.org//NONSGML plone.app.event//EN
X-WR-TIMEZONE:Brazil/East
BEGIN:VEVENT
SUMMARY:PREGÃO PRESENCIAL Nº 001/2019.
DTSTART;TZID=Brazil/East;VALUE=DATE-TIME:20190409T090000
DTEND;TZID=Brazil/East;VALUE=DATE-TIME:20190409T120000
DTSTAMP;VALUE=DATE-TIME:20260423T090039Z
UID:be86c6d587aa46ff8f307317b32bab2f@www.goiania.go.leg.br
CONTACT:JAILTON PEREIRA DA SILVA
CREATED;VALUE=DATE-TIME:20190327T215407Z
LAST-MODIFIED;VALUE=DATE-TIME:20190327T215418Z
LOCATION:AUDITÓRIO CARLOS EURICO
URL:https://www.goiania.go.leg.br/sala-de-imprensa/eventos/pregao-presenci
 al-no-001-2019
END:VEVENT
BEGIN:VTIMEZONE
TZID:Brazil/East
X-LIC-LOCATION:Brazil/East
BEGIN:STANDARD
DTSTART;VALUE=DATE-TIME:20190216T230000
TZNAME:BRT
TZOFFSETFROM:-0200
TZOFFSETTO:-0300
END:STANDARD
END:VTIMEZONE
END:VCALENDAR
