BEGIN:VCALENDAR
VERSION:2.0
PRODID:-//Plone.org//NONSGML plone.app.event//EN
X-WR-TIMEZONE:Brazil/East
BEGIN:VEVENT
SUMMARY:POSSE DOS NOVOS CONSELHEIROS E DA NOVA DIRETORIA DO CONSELHO DE DI
 RETORES DAS ESCOLAS E CMEI´S DE GOIÂNIA - CONDIR.        ESS
DTSTART;TZID=Brazil/East;VALUE=DATE-TIME:20180417T080000
DTEND;TZID=Brazil/East;VALUE=DATE-TIME:20180417T120000
DTSTAMP;VALUE=DATE-TIME:20260423T073054Z
UID:0599a1d3f5eb400a9297b35fcda1814b@www.goiania.go.leg.br
CONTACT:DIEGO MONTEIRO SILVA
CREATED;VALUE=DATE-TIME:20180328T102512Z
LAST-MODIFIED;VALUE=DATE-TIME:20180328T102543Z
LOCATION:AUDITÓRIO CARLOS EURICO
URL:https://www.goiania.go.leg.br/sala-de-imprensa/eventos/posse-dos-novos
 -conselheiros-e-da-nova-diretoria-do-conselho-de-diretores-das-escolas-e-c
 meis-de-goiania-condir-ess
END:VEVENT
BEGIN:VTIMEZONE
TZID:Brazil/East
X-LIC-LOCATION:Brazil/East
BEGIN:STANDARD
DTSTART;VALUE=DATE-TIME:20180217T230000
TZNAME:BRT
TZOFFSETFROM:-0200
TZOFFSETTO:-0300
END:STANDARD
END:VTIMEZONE
END:VCALENDAR
