BEGIN:VCALENDAR
VERSION:2.0
PRODID:-//Plone.org//NONSGML plone.app.event//EN
X-WR-TIMEZONE:Brazil/East
BEGIN:VEVENT
SUMMARY:POSSE DOS 168 CONSELHEIROS DO NOSSO DISTRITO SANITÁRIO CAMPINAS C
 ENTRO DA SECRETARIA MUNICIPAL DE SAÚDE.
DTSTART;TZID=Brazil/East;VALUE=DATE-TIME:20160824T080000
DTEND;TZID=Brazil/East;VALUE=DATE-TIME:20160824T120000
DTSTAMP;VALUE=DATE-TIME:20260423T073128Z
UID:d0683457109a4ffdb984627022eb749b@www.goiania.go.leg.br
CONTACT:VEREADOR ANSELMO PEREIRA
CREATED;VALUE=DATE-TIME:20171208T111312Z
LAST-MODIFIED;VALUE=DATE-TIME:20171208T112923Z
LOCATION:AUDITÓRIO JAIME CÂMARA
URL:https://www.goiania.go.leg.br/sala-de-imprensa/eventos/posse-dos-168-c
 onselheiros-do-nosso-distrito-sanitario-campinas-centro-da-secretaria-muni
 cipal-de-saude
END:VEVENT
BEGIN:VTIMEZONE
TZID:Brazil/East
X-LIC-LOCATION:Brazil/East
BEGIN:STANDARD
DTSTART;VALUE=DATE-TIME:20160220T230000
TZNAME:BRT
TZOFFSETFROM:-0200
TZOFFSETTO:-0300
END:STANDARD
END:VTIMEZONE
END:VCALENDAR
