BEGIN:VCALENDAR
VERSION:2.0
PRODID:-//Plone.org//NONSGML plone.app.event//EN
X-WR-TIMEZONE:Brazil/East
BEGIN:VEVENT
SUMMARY:POSSE DA DIRETORIA ELEITA DO SINDICATO DOS TRABALHADORES DO MUNIC
 ÍPIO DE GOIÂNIA.
DTSTART;TZID=Brazil/East;VALUE=DATE-TIME:20190426T193000
DTEND;TZID=Brazil/East;VALUE=DATE-TIME:20190426T220000
DTSTAMP;VALUE=DATE-TIME:20260423T055918Z
UID:338ce371507747dc84d09c551e78583e@www.goiania.go.leg.br
CONTACT:VEREADOR ROMÁRIO POLICARPO
CREATED;VALUE=DATE-TIME:20190425T133523Z
LAST-MODIFIED;VALUE=DATE-TIME:20190425T133529Z
LOCATION:PLENÁRIO TRAJANO GUJIMARÃES
URL:https://www.goiania.go.leg.br/sala-de-imprensa/eventos/posse-da-direto
 ria-eleita-do-sindicato-dos-trabalhadores-do-municipio-de-goiania
END:VEVENT
BEGIN:VTIMEZONE
TZID:Brazil/East
X-LIC-LOCATION:Brazil/East
BEGIN:STANDARD
DTSTART;VALUE=DATE-TIME:20190216T230000
TZNAME:BRT
TZOFFSETFROM:-0200
TZOFFSETTO:-0300
END:STANDARD
END:VTIMEZONE
END:VCALENDAR
