BEGIN:VCALENDAR
VERSION:2.0
PRODID:-//Plone.org//NONSGML plone.app.event//EN
X-WR-TIMEZONE:Brazil/East
BEGIN:VEVENT
SUMMARY:PONTO DE ACOLHIMENTO DA ASSOCIAÇÃO CURANDO IVO.
DTSTART;TZID=Brazil/East;VALUE=DATE-TIME:20220621T130000
DTEND;TZID=Brazil/East;VALUE=DATE-TIME:20220621T170000
DTSTAMP;VALUE=DATE-TIME:20260423T055057Z
UID:c53392f656cc48618d5bd225edf4589c@www.goiania.go.leg.br
CONTACT:VEREADORA AAVA SANTIAGO
CREATED;VALUE=DATE-TIME:20220620T174209Z
LAST-MODIFIED;VALUE=DATE-TIME:20220620T174313Z
LOCATION:HALL DE ENTRADA DESTA CASA DE LEIS
URL:https://www.goiania.go.leg.br/sala-de-imprensa/eventos/ponto-de-acolhi
 mento-da-associacao-curando-ivo
END:VEVENT
BEGIN:VTIMEZONE
TZID:Brazil/East
X-LIC-LOCATION:Brazil/East
BEGIN:STANDARD
DTSTART;VALUE=DATE-TIME:20220219T230000
TZNAME:BRT
TZOFFSETFROM:-0200
TZOFFSETTO:-0300
END:STANDARD
END:VTIMEZONE
END:VCALENDAR
