BEGIN:VCALENDAR
VERSION:2.0
PRODID:-//Plone.org//NONSGML plone.app.event//EN
X-WR-TIMEZONE:Brazil/East
BEGIN:VEVENT
SUMMARY:PARADA LGBTQIA+
DTSTART;TZID=Brazil/East;VALUE=DATE-TIME:20220630T150000
DTEND;TZID=Brazil/East;VALUE=DATE-TIME:20220630T180000
DTSTAMP;VALUE=DATE-TIME:20260420T050018Z
UID:282f6f359857401b8051ba5e94209b98@www.goiania.go.leg.br
CONTACT:VEREADOR MARLON TEIXEIRA
CREATED;VALUE=DATE-TIME:20220629T194536Z
LAST-MODIFIED;VALUE=DATE-TIME:20220629T194550Z
LOCATION:SALA DE REUNIÃO DAS COMISSÕES
URL:https://www.goiania.go.leg.br/sala-de-imprensa/eventos/parada-lgbtqia
END:VEVENT
BEGIN:VTIMEZONE
TZID:Brazil/East
X-LIC-LOCATION:Brazil/East
BEGIN:STANDARD
DTSTART;VALUE=DATE-TIME:20220219T230000
TZNAME:BRT
TZOFFSETFROM:-0200
TZOFFSETTO:-0300
END:STANDARD
END:VTIMEZONE
END:VCALENDAR
