BEGIN:VCALENDAR
VERSION:2.0
PRODID:-//Plone.org//NONSGML plone.app.event//EN
X-WR-TIMEZONE:Brazil/East
BEGIN:VEVENT
SUMMARY:PARA TRATAR SOBRE PROJETOS DA COMISSÃO DE DIREITOS DOS IDOSOS.
DTSTART;TZID=Brazil/East;VALUE=DATE-TIME:20230912T080000
DTEND;TZID=Brazil/East;VALUE=DATE-TIME:20230912T090000
DTSTAMP;VALUE=DATE-TIME:20260423T015445Z
UID:69c8c726b30849309c248dd489584765@www.goiania.go.leg.br
CONTACT:VEREADOR PAULO MAGALHÃES
CREATED;VALUE=DATE-TIME:20230906T121033Z
LAST-MODIFIED;VALUE=DATE-TIME:20230906T121128Z
LOCATION:SALA DE REUNIÃO DAS COMISSÕES
URL:https://www.goiania.go.leg.br/sala-de-imprensa/eventos/para-tratar-sob
 re-projetos-da-comissao-de-direitos-dos-idosos
END:VEVENT
BEGIN:VTIMEZONE
TZID:Brazil/East
X-LIC-LOCATION:Brazil/East
BEGIN:STANDARD
DTSTART;VALUE=DATE-TIME:20230225T230000
TZNAME:BRT
TZOFFSETFROM:-0200
TZOFFSETTO:-0300
END:STANDARD
END:VTIMEZONE
END:VCALENDAR
