BEGIN:VCALENDAR
VERSION:2.0
PRODID:-//Plone.org//NONSGML plone.app.event//EN
X-WR-TIMEZONE:Brazil/East
BEGIN:VEVENT
SUMMARY:PARA O USO DE CAPACITAÇÃO.
DTSTART;TZID=Brazil/East;VALUE=DATE-TIME:20260314T070000
DTEND;TZID=Brazil/East;VALUE=DATE-TIME:20260314T183000
DTSTAMP;VALUE=DATE-TIME:20260420T155307Z
UID:63861f95164a4302ae1459a50e7641ef@www.goiania.go.leg.br
CONTACT:VEREADOR ISAÍAS RIBEIRO
CREATED;VALUE=DATE-TIME:20260310T121630Z
LAST-MODIFIED;VALUE=DATE-TIME:20260310T121700Z
LOCATION:AUDITÓRIO JAIME CÂMARA
URL:https://www.goiania.go.leg.br/sala-de-imprensa/eventos/para-o-uso-de-c
 apacitacao
END:VEVENT
BEGIN:VTIMEZONE
TZID:Brazil/East
X-LIC-LOCATION:Brazil/East
BEGIN:STANDARD
DTSTART;VALUE=DATE-TIME:20260221T230000
TZNAME:BRT
TZOFFSETFROM:-0200
TZOFFSETTO:-0300
END:STANDARD
END:VTIMEZONE
END:VCALENDAR
