BEGIN:VCALENDAR
VERSION:2.0
PRODID:-//Plone.org//NONSGML plone.app.event//EN
X-WR-TIMEZONE:Brazil/East
BEGIN:VEVENT
SUMMARY:PALESTRE SOBRE AGOSTO LILÁS PARA ESTUDANTES DO CURSO DE PSICOLOGI
 A DA FACUNICAMPS.
DTSTART;TZID=Brazil/East;VALUE=DATE-TIME:20250901T080000
DTEND;TZID=Brazil/East;VALUE=DATE-TIME:20250901T120000
DTSTAMP;VALUE=DATE-TIME:20260423T055139Z
UID:d1bc212ed6d64be8bf54f590124edfd8@www.goiania.go.leg.br
CONTACT:COORDENADORIA DA OUVIDORIA
CREATED;VALUE=DATE-TIME:20250825T214657Z
LAST-MODIFIED;VALUE=DATE-TIME:20250825T214734Z
LOCATION:SALA DE REUNIÃO DA PRESIDÊNCIA
URL:https://www.goiania.go.leg.br/sala-de-imprensa/eventos/palestre-sobre-
 agosto-lilas-para-estudantes-do-curso-de-psicologia-da-facunicamps
END:VEVENT
BEGIN:VTIMEZONE
TZID:Brazil/East
X-LIC-LOCATION:Brazil/East
BEGIN:STANDARD
DTSTART;VALUE=DATE-TIME:20250215T230000
TZNAME:BRT
TZOFFSETFROM:-0200
TZOFFSETTO:-0300
END:STANDARD
END:VTIMEZONE
END:VCALENDAR
