BEGIN:VCALENDAR
VERSION:2.0
PRODID:-//Plone.org//NONSGML plone.app.event//EN
X-WR-TIMEZONE:Brazil/East
BEGIN:VEVENT
SUMMARY:PALESTRAS ORGANIZADASA PELA ASSESSORA ROSANA FALEIROS.
DTSTART;TZID=Brazil/East;VALUE=DATE-TIME:20240319T150000
DTEND;TZID=Brazil/East;VALUE=DATE-TIME:20240319T180000
DTSTAMP;VALUE=DATE-TIME:20260422T053043Z
UID:02f06707ff82407f9d2f2ca9a67384db@www.goiania.go.leg.br
CONTACT:VEREADOR ANSELMO PEREIRA
CREATED;VALUE=DATE-TIME:20240305T135649Z
LAST-MODIFIED;VALUE=DATE-TIME:20240305T135705Z
LOCATION:AUDITÓRIO CARLOS EURICO
URL:https://www.goiania.go.leg.br/sala-de-imprensa/eventos/palestras-organ
 izadasa-pela-assessora-rosana-faleiros-1
END:VEVENT
BEGIN:VTIMEZONE
TZID:Brazil/East
X-LIC-LOCATION:Brazil/East
BEGIN:STANDARD
DTSTART;VALUE=DATE-TIME:20240217T230000
TZNAME:BRT
TZOFFSETFROM:-0200
TZOFFSETTO:-0300
END:STANDARD
END:VTIMEZONE
END:VCALENDAR
