BEGIN:VCALENDAR
VERSION:2.0
PRODID:-//Plone.org//NONSGML plone.app.event//EN
X-WR-TIMEZONE:Brazil/East
BEGIN:VEVENT
SUMMARY:PALESTRAS EDUCATIVAS EM RELAÇÃO À PRESERVAÇÃO DO RIO ARAGUAIA
 .
DTSTART;TZID=Brazil/East;VALUE=DATE-TIME:20180609T080000
DTEND;TZID=Brazil/East;VALUE=DATE-TIME:20180609T180000
DTSTAMP;VALUE=DATE-TIME:20260423T043442Z
UID:232796dd13cf40b2b847c3dbf9fb3686@www.goiania.go.leg.br
CONTACT:JOÃO LELIS FERREIRA NETO
CREATED;VALUE=DATE-TIME:20180508T140725Z
LAST-MODIFIED;VALUE=DATE-TIME:20180508T141033Z
LOCATION:AUDITÓRIO JAIME CÂMARA
URL:https://www.goiania.go.leg.br/sala-de-imprensa/eventos/palestras-educa
 tivas-em-relacao-a-preservacao-do-rio-araguaia-2
END:VEVENT
BEGIN:VTIMEZONE
TZID:Brazil/East
X-LIC-LOCATION:Brazil/East
BEGIN:STANDARD
DTSTART;VALUE=DATE-TIME:20180217T230000
TZNAME:BRT
TZOFFSETFROM:-0200
TZOFFSETTO:-0300
END:STANDARD
END:VTIMEZONE
END:VCALENDAR
