BEGIN:VCALENDAR
VERSION:2.0
PRODID:-//Plone.org//NONSGML plone.app.event//EN
X-WR-TIMEZONE:Brazil/East
BEGIN:VEVENT
SUMMARY:PALESTRAS DO DIA INTERNACIONAL DA MULHER.
DTSTART;TZID=Brazil/East;VALUE=DATE-TIME:20200307T070000
DTEND;TZID=Brazil/East;VALUE=DATE-TIME:20200307T183000
DTSTAMP;VALUE=DATE-TIME:20260421T111933Z
UID:2664c50fb844481998ab5a1c3b4eb309@www.goiania.go.leg.br
CONTACT:VEREADORA DRA. CRISTINA LOPES AFONSO
CREATED;VALUE=DATE-TIME:20200203T152613Z
LAST-MODIFIED;VALUE=DATE-TIME:20200203T152625Z
LOCATION:AUDITÓRIO JAIME CÂMARA
URL:https://www.goiania.go.leg.br/sala-de-imprensa/eventos/palestras-do-di
 a-internacional-da-mulher
END:VEVENT
BEGIN:VTIMEZONE
TZID:Brazil/East
X-LIC-LOCATION:Brazil/East
BEGIN:STANDARD
DTSTART;VALUE=DATE-TIME:20200215T230000
TZNAME:BRT
TZOFFSETFROM:-0200
TZOFFSETTO:-0300
END:STANDARD
END:VTIMEZONE
END:VCALENDAR
