BEGIN:VCALENDAR
VERSION:2.0
PRODID:-//Plone.org//NONSGML plone.app.event//EN
X-WR-TIMEZONE:Brazil/East
BEGIN:VEVENT
SUMMARY:PALESTRA VAMOS FALAR SOBRE SAÚDE MENTAL.
DTSTART;TZID=Brazil/East;VALUE=DATE-TIME:20250919T100000
DTEND;TZID=Brazil/East;VALUE=DATE-TIME:20250919T120000
DTSTAMP;VALUE=DATE-TIME:20260423T043346Z
UID:8750769632454d70aa29c68610ba75a5@www.goiania.go.leg.br
CONTACT:VEREADOR CORONEL URZEDA
CREATED;VALUE=DATE-TIME:20250903T204009Z
LAST-MODIFIED;VALUE=DATE-TIME:20250903T204100Z
LOCATION:AUDITÓRIO CARLOS EURICO
URL:https://www.goiania.go.leg.br/sala-de-imprensa/eventos/palestra-vamos-
 falar-sobre-saude-mental
END:VEVENT
BEGIN:VTIMEZONE
TZID:Brazil/East
X-LIC-LOCATION:Brazil/East
BEGIN:STANDARD
DTSTART;VALUE=DATE-TIME:20250215T230000
TZNAME:BRT
TZOFFSETFROM:-0200
TZOFFSETTO:-0300
END:STANDARD
END:VTIMEZONE
END:VCALENDAR
