BEGIN:VCALENDAR
VERSION:2.0
PRODID:-//Plone.org//NONSGML plone.app.event//EN
X-WR-TIMEZONE:Brazil/East
BEGIN:VEVENT
SUMMARY:PALESTRA SOBRE SETEMBRO AMARELO - COM A PSICÓLOGA CLARA DAWN.
DTSTART;TZID=Brazil/East;VALUE=DATE-TIME:20190926T190000
DTEND;TZID=Brazil/East;VALUE=DATE-TIME:20190926T220000
DTSTAMP;VALUE=DATE-TIME:20260422T015713Z
UID:2862f04dc979468fa170ce95e4ff7dfc@www.goiania.go.leg.br
CONTACT:VEREADOR MILTON MERCEZ
CREATED;VALUE=DATE-TIME:20190917T133359Z
LAST-MODIFIED;VALUE=DATE-TIME:20190917T133418Z
LOCATION:AUDITÓRIO CARLOS EURICO
URL:https://www.goiania.go.leg.br/sala-de-imprensa/eventos/palestra-sobre-
 setembro-amarelo-com-a-psicologa-clara-dawn
END:VEVENT
BEGIN:VTIMEZONE
TZID:Brazil/East
X-LIC-LOCATION:Brazil/East
BEGIN:STANDARD
DTSTART;VALUE=DATE-TIME:20190216T230000
TZNAME:BRT
TZOFFSETFROM:-0200
TZOFFSETTO:-0300
END:STANDARD
END:VTIMEZONE
END:VCALENDAR
