BEGIN:VCALENDAR
VERSION:2.0
PRODID:-//Plone.org//NONSGML plone.app.event//EN
X-WR-TIMEZONE:Brazil/East
BEGIN:VEVENT
SUMMARY:PALESTRA SOBRE PSICOLOGIA POSITIVA.
DTSTART;TZID=Brazil/East;VALUE=DATE-TIME:20190803T130000
DTEND;TZID=Brazil/East;VALUE=DATE-TIME:20190803T180000
DTSTAMP;VALUE=DATE-TIME:20260423T043301Z
UID:9a3b733a5d8f46f7a755ca448efe0481@www.goiania.go.leg.br
CONTACT:VEREADOR MILTON MERCEZ
CREATED;VALUE=DATE-TIME:20190612T114749Z
LAST-MODIFIED;VALUE=DATE-TIME:20190612T114831Z
LOCATION:AUDITÓRIO CARLOS EURICO
URL:https://www.goiania.go.leg.br/sala-de-imprensa/eventos/palestra-sobre-
 psicologia-positiva
END:VEVENT
BEGIN:VTIMEZONE
TZID:Brazil/East
X-LIC-LOCATION:Brazil/East
BEGIN:STANDARD
DTSTART;VALUE=DATE-TIME:20190216T230000
TZNAME:BRT
TZOFFSETFROM:-0200
TZOFFSETTO:-0300
END:STANDARD
END:VTIMEZONE
END:VCALENDAR
