BEGIN:VCALENDAR
VERSION:2.0
PRODID:-//Plone.org//NONSGML plone.app.event//EN
X-WR-TIMEZONE:Brazil/East
BEGIN:VEVENT
SUMMARY:PALESTRA SOBRE O PAPEL DO VEREADOR AOS ALUNOS DE DIREITO DA FACULD
 ADE ARAGUAIA
DTSTART;TZID=Brazil/East;VALUE=DATE-TIME:20190326T090000
DTEND;TZID=Brazil/East;VALUE=DATE-TIME:20190326T120000
DTSTAMP;VALUE=DATE-TIME:20260423T030738Z
UID:2895c728a2e6425c97b0650fe9937e84@www.goiania.go.leg.br
CONTACT:VEREADORA DRA. CRISTINA LOPES AFONSO
CREATED;VALUE=DATE-TIME:20190315T131806Z
LAST-MODIFIED;VALUE=DATE-TIME:20190315T131837Z
LOCATION:AUDITÓRIO CARLOS EURICO
URL:https://www.goiania.go.leg.br/sala-de-imprensa/eventos/palestra-sobre-
 o-papel-do-vereador-aos-alunos-de-direito-da-faculdade-araguaia
END:VEVENT
BEGIN:VTIMEZONE
TZID:Brazil/East
X-LIC-LOCATION:Brazil/East
BEGIN:STANDARD
DTSTART;VALUE=DATE-TIME:20190216T230000
TZNAME:BRT
TZOFFSETFROM:-0200
TZOFFSETTO:-0300
END:STANDARD
END:VTIMEZONE
END:VCALENDAR
