BEGIN:VCALENDAR
VERSION:2.0
PRODID:-//Plone.org//NONSGML plone.app.event//EN
X-WR-TIMEZONE:Brazil/East
BEGIN:VEVENT
SUMMARY:PALESTRA SOBRE DIREITO CONSTITUCIONAL MINISTRADA PELO PROFESSOR DO
 UTOR FLAVIO MARTINS.
DTSTART;TZID=Brazil/East;VALUE=DATE-TIME:20191022T080000
DTEND;TZID=Brazil/East;VALUE=DATE-TIME:20191022T170000
DTSTAMP;VALUE=DATE-TIME:20260421T212323Z
UID:621eb916d3074ef8875addd0899d224a@www.goiania.go.leg.br
CONTACT:VEREADOR LUCAS KITÃO
CREATED;VALUE=DATE-TIME:20191010T221301Z
LAST-MODIFIED;VALUE=DATE-TIME:20191010T221333Z
LOCATION:AUDITÓRIO JAIME CÂMARA
URL:https://www.goiania.go.leg.br/sala-de-imprensa/eventos/palestra-sobre-
 direito-constitucional-ministrada-pelo-professor-doutor-flavio-martins
END:VEVENT
BEGIN:VTIMEZONE
TZID:Brazil/East
X-LIC-LOCATION:Brazil/East
BEGIN:DAYLIGHT
DTSTART;VALUE=DATE-TIME:20191020T010000
TZNAME:BRST
TZOFFSETFROM:-0300
TZOFFSETTO:-0200
END:DAYLIGHT
END:VTIMEZONE
END:VCALENDAR
