BEGIN:VCALENDAR
VERSION:2.0
PRODID:-//Plone.org//NONSGML plone.app.event//EN
X-WR-TIMEZONE:Brazil/East
BEGIN:VEVENT
SUMMARY:PALESTRA SOBRE A PRESERVAÇÃO DO MEIO AMBIENTE.
DTSTART;TZID=Brazil/East;VALUE=DATE-TIME:20190606T090000
DTEND;TZID=Brazil/East;VALUE=DATE-TIME:20190606T120000
DTSTAMP;VALUE=DATE-TIME:20260423T030620Z
UID:cbbcb72f21094a7bbedd4184c9663cc2@www.goiania.go.leg.br
CONTACT:VEREADOR GUSTAVO CRUVINEL
CREATED;VALUE=DATE-TIME:20190327T215229Z
LAST-MODIFIED;VALUE=DATE-TIME:20190327T215236Z
LOCATION:AUDITÓRIO CARLOS EURICO
URL:https://www.goiania.go.leg.br/sala-de-imprensa/eventos/palestra-sobre-
 a-preservacao-do-meio-ambiente
END:VEVENT
BEGIN:VTIMEZONE
TZID:Brazil/East
X-LIC-LOCATION:Brazil/East
BEGIN:STANDARD
DTSTART;VALUE=DATE-TIME:20190216T230000
TZNAME:BRT
TZOFFSETFROM:-0200
TZOFFSETTO:-0300
END:STANDARD
END:VTIMEZONE
END:VCALENDAR
