BEGIN:VCALENDAR
VERSION:2.0
PRODID:-//Plone.org//NONSGML plone.app.event//EN
X-WR-TIMEZONE:Brazil/East
BEGIN:VEVENT
SUMMARY:PALESTRA SOBRE A "LEI MARIA DA PENHA".
DTSTART;TZID=Brazil/East;VALUE=DATE-TIME:20220309T140000
DTEND;TZID=Brazil/East;VALUE=DATE-TIME:20220309T170000
DTSTAMP;VALUE=DATE-TIME:20260420T074542Z
UID:f66173efa11d4dca8e9c8a956a14c606@www.goiania.go.leg.br
CONTACT:MILKA REZENDE
CREATED;VALUE=DATE-TIME:20220215T105945Z
LAST-MODIFIED;VALUE=DATE-TIME:20220215T110009Z
LOCATION:AUDITÓRIO CARLOS EURICO
URL:https://www.goiania.go.leg.br/sala-de-imprensa/eventos/palestra-sobre-
 a-lei-maria-da-penha
END:VEVENT
BEGIN:VTIMEZONE
TZID:Brazil/East
X-LIC-LOCATION:Brazil/East
BEGIN:STANDARD
DTSTART;VALUE=DATE-TIME:20220219T230000
TZNAME:BRT
TZOFFSETFROM:-0200
TZOFFSETTO:-0300
END:STANDARD
END:VTIMEZONE
END:VCALENDAR
