BEGIN:VCALENDAR
VERSION:2.0
PRODID:-//Plone.org//NONSGML plone.app.event//EN
X-WR-TIMEZONE:Brazil/East
BEGIN:VEVENT
SUMMARY:PALESTRA SOBRE "A IMPORTÂNCIA DA RECICLAGEM #EUCONTRIBUO"\, COM O
  ENGENHEIRO CIVIL DIÓGENES AIRES DE MELO.
DTSTART;TZID=Brazil/East;VALUE=DATE-TIME:20180628T080000
DTEND;TZID=Brazil/East;VALUE=DATE-TIME:20180628T100000
DTSTAMP;VALUE=DATE-TIME:20260423T030656Z
UID:52074b48b76447aebb29035ae50a319e@www.goiania.go.leg.br
CONTACT:VEREADOR GUSTAVO CRUVINEL
CREATED;VALUE=DATE-TIME:20180627T124753Z
LAST-MODIFIED;VALUE=DATE-TIME:20180627T124803Z
LOCATION:AUDITÓRIO CARLOS EURICO
URL:https://www.goiania.go.leg.br/sala-de-imprensa/eventos/palestra-sobre-
 a-importancia-da-reciclagem-eucontribuo-com-o-engenheiro-civil-diogenes-ai
 res-de-melo
END:VEVENT
BEGIN:VTIMEZONE
TZID:Brazil/East
X-LIC-LOCATION:Brazil/East
BEGIN:STANDARD
DTSTART;VALUE=DATE-TIME:20180217T230000
TZNAME:BRT
TZOFFSETFROM:-0200
TZOFFSETTO:-0300
END:STANDARD
END:VTIMEZONE
END:VCALENDAR
