BEGIN:VCALENDAR
VERSION:2.0
PRODID:-//Plone.org//NONSGML plone.app.event//EN
X-WR-TIMEZONE:Brazil/East
BEGIN:VEVENT
SUMMARY:PALESTRA SOBRE A IMPORTÂNCIA DA POLÍTICA BRASILEIRA PELO MOVIMEN
 TO BRASIL LIVRE.
DTSTART;TZID=Brazil/East;VALUE=DATE-TIME:20190525T130000
DTEND;TZID=Brazil/East;VALUE=DATE-TIME:20190525T180000
DTSTAMP;VALUE=DATE-TIME:20260423T030738Z
UID:d7da6d16821c4d6f95c96d35c4726d6a@www.goiania.go.leg.br
CONTACT:VEREADOR ROMÁRIO POLICARPO
CREATED;VALUE=DATE-TIME:20190509T135943Z
LAST-MODIFIED;VALUE=DATE-TIME:20190509T135954Z
LOCATION:AUDITÓRIO JAIME CÂMARA
URL:https://www.goiania.go.leg.br/sala-de-imprensa/eventos/palestra-sobre-
 a-importancia-da-politica-brasileira-pelo-movimento-brasil-livre
END:VEVENT
BEGIN:VTIMEZONE
TZID:Brazil/East
X-LIC-LOCATION:Brazil/East
BEGIN:STANDARD
DTSTART;VALUE=DATE-TIME:20190216T230000
TZNAME:BRT
TZOFFSETFROM:-0200
TZOFFSETTO:-0300
END:STANDARD
END:VTIMEZONE
END:VCALENDAR
