BEGIN:VCALENDAR
VERSION:2.0
PRODID:-//Plone.org//NONSGML plone.app.event//EN
X-WR-TIMEZONE:Brazil/East
BEGIN:VEVENT
SUMMARY:PALESTRA SOBRE A CASA DE LEIS E APRECIAÇÃO DOS PROJETOS DE LEIS 
 DOS PARLAMENTARES.
DTSTART;TZID=Brazil/East;VALUE=DATE-TIME:20260519T070000
DTEND;TZID=Brazil/East;VALUE=DATE-TIME:20260519T120000
DTSTAMP;VALUE=DATE-TIME:20260420T020442Z
UID:0ff23c9067794e24a64b29257638e2d8@www.goiania.go.leg.br
CONTACT:PARLAMENTO JOVEM 
CREATED;VALUE=DATE-TIME:20260408T202842Z
LAST-MODIFIED;VALUE=DATE-TIME:20260408T203048Z
LOCATION:SALA DE REUNIÕES DO VEREADOR CARLOS SOARES
URL:https://www.goiania.go.leg.br/sala-de-imprensa/eventos/palestra-sobre-
 a-casa-de-leis-e-apreciacao-dos-projetgos-de-leis-dos-parlamentares
END:VEVENT
BEGIN:VTIMEZONE
TZID:Brazil/East
X-LIC-LOCATION:Brazil/East
BEGIN:STANDARD
DTSTART;VALUE=DATE-TIME:20260221T230000
TZNAME:BRT
TZOFFSETFROM:-0200
TZOFFSETTO:-0300
END:STANDARD
END:VTIMEZONE
END:VCALENDAR
