BEGIN:VCALENDAR
VERSION:2.0
PRODID:-//Plone.org//NONSGML plone.app.event//EN
X-WR-TIMEZONE:Brazil/East
BEGIN:VEVENT
SUMMARY:PALESTRA PROMOVIDA PELA ASSOCIAÇÃO DE DISTRIBUIDORAS E EMPÓRIOS
  DE BEBIDAS.
DTSTART;TZID=Brazil/East;VALUE=DATE-TIME:20251020T100000
DTEND;TZID=Brazil/East;VALUE=DATE-TIME:20251020T120000
DTSTAMP;VALUE=DATE-TIME:20260421T230819Z
UID:f641ac646c5848fcae107469e0c5daa3@www.goiania.go.leg.br
CONTACT:VEREADOR RODRIGO RIZZO
CREATED;VALUE=DATE-TIME:20251014T130424Z
LAST-MODIFIED;VALUE=DATE-TIME:20251014T130455Z
LOCATION:AUDITORIO JAIME CÂMARA
URL:https://www.goiania.go.leg.br/sala-de-imprensa/eventos/palestra-promov
 ida-pela-associacao-de-distribuidoras-e-emporios-de-bebidas
END:VEVENT
BEGIN:VTIMEZONE
TZID:Brazil/East
X-LIC-LOCATION:Brazil/East
BEGIN:DAYLIGHT
DTSTART;VALUE=DATE-TIME:20251019T010000
TZNAME:BRST
TZOFFSETFROM:-0300
TZOFFSETTO:-0200
END:DAYLIGHT
END:VTIMEZONE
END:VCALENDAR
