BEGIN:VCALENDAR
VERSION:2.0
PRODID:-//Plone.org//NONSGML plone.app.event//EN
X-WR-TIMEZONE:Brazil/East
BEGIN:VEVENT
SUMMARY:PALESTRA PARA MULHERES.
DTSTART;TZID=Brazil/East;VALUE=DATE-TIME:20240927T150000
DTEND;TZID=Brazil/East;VALUE=DATE-TIME:20240927T180000
DTSTAMP;VALUE=DATE-TIME:20260422T081108Z
UID:3404e216ff094083a85edcbe984056d1@www.goiania.go.leg.br
CONTACT:VEREADORA LÉIA KLEBIA
CREATED;VALUE=DATE-TIME:20240904T114900Z
LAST-MODIFIED;VALUE=DATE-TIME:20240904T114921Z
LOCATION:AUDITÓRIO CARLOS EURICO
URL:https://www.goiania.go.leg.br/sala-de-imprensa/eventos/palestra-para-m
 ulheres
END:VEVENT
BEGIN:VTIMEZONE
TZID:Brazil/East
X-LIC-LOCATION:Brazil/East
BEGIN:STANDARD
DTSTART;VALUE=DATE-TIME:20240217T230000
TZNAME:BRT
TZOFFSETFROM:-0200
TZOFFSETTO:-0300
END:STANDARD
END:VTIMEZONE
END:VCALENDAR
