BEGIN:VCALENDAR
VERSION:2.0
PRODID:-//Plone.org//NONSGML plone.app.event//EN
X-WR-TIMEZONE:Brazil/East
BEGIN:VEVENT
SUMMARY:PALESTRA PARA A EQUIPE.
DTSTART;TZID=Brazil/East;VALUE=DATE-TIME:20250505T180000
DTEND;TZID=Brazil/East;VALUE=DATE-TIME:20250505T210000
DTSTAMP;VALUE=DATE-TIME:20260422T070019Z
UID:969b838cb1594395b4a9c3b46f294722@www.goiania.go.leg.br
CONTACT:VEREADOR WELTON LEMOS
CREATED;VALUE=DATE-TIME:20250410T142701Z
LAST-MODIFIED;VALUE=DATE-TIME:20250410T142715Z
LOCATION:AUDITÓRIO CARLOS EURICO
URL:https://www.goiania.go.leg.br/sala-de-imprensa/eventos/palestra-para-a
 -equipe
END:VEVENT
BEGIN:VTIMEZONE
TZID:Brazil/East
X-LIC-LOCATION:Brazil/East
BEGIN:STANDARD
DTSTART;VALUE=DATE-TIME:20250215T230000
TZNAME:BRT
TZOFFSETFROM:-0200
TZOFFSETTO:-0300
END:STANDARD
END:VTIMEZONE
END:VCALENDAR
