BEGIN:VCALENDAR
VERSION:2.0
PRODID:-//Plone.org//NONSGML plone.app.event//EN
X-WR-TIMEZONE:Brazil/East
BEGIN:VEVENT
SUMMARY:PALESTRA O MOVIMENTO DOS NOVOS LÍDERES DE NEGÓCIOS.
DTSTART;TZID=Brazil/East;VALUE=DATE-TIME:20250917T180000
DTEND;TZID=Brazil/East;VALUE=DATE-TIME:20250917T220000
DTSTAMP;VALUE=DATE-TIME:20260419T174403Z
UID:57e6639afda347878c5c41585671313b@www.goiania.go.leg.br
CONTACT:VEREADOR WELTON LEMOS
CREATED;VALUE=DATE-TIME:20250909T145409Z
LAST-MODIFIED;VALUE=DATE-TIME:20250915T210433Z
LOCATION:AUDITÓRIO JAIME CÂMARA
URL:https://www.goiania.go.leg.br/sala-de-imprensa/eventos/palestra-o-movi
 mento-dos-novos-lidesrtes-de-negocios-1
END:VEVENT
BEGIN:VTIMEZONE
TZID:Brazil/East
X-LIC-LOCATION:Brazil/East
BEGIN:STANDARD
DTSTART;VALUE=DATE-TIME:20250215T230000
TZNAME:BRT
TZOFFSETFROM:-0200
TZOFFSETTO:-0300
END:STANDARD
END:VTIMEZONE
END:VCALENDAR
