BEGIN:VCALENDAR
VERSION:2.0
PRODID:-//Plone.org//NONSGML plone.app.event//EN
X-WR-TIMEZONE:Brazil/East
BEGIN:VEVENT
SUMMARY:PALESTRA NA ÁREA DA EDUCAÇÃO PELA FACULDADE CGESP.
DTSTART;TZID=Brazil/East;VALUE=DATE-TIME:20190221T190000
DTEND;TZID=Brazil/East;VALUE=DATE-TIME:20190221T220000
DTSTAMP;VALUE=DATE-TIME:20260423T014343Z
UID:d50a2edeada04455a22fe869229656ec@www.goiania.go.leg.br
CONTACT:VEREADOR GCM ROMÁRIO POLICARPO
CREATED;VALUE=DATE-TIME:20190205T100159Z
LAST-MODIFIED;VALUE=DATE-TIME:20190205T100215Z
LOCATION:AUDITÓRIO JAIME CÂMARA
URL:https://www.goiania.go.leg.br/sala-de-imprensa/eventos/palestra-na-are
 a-da-educacao-pela-faculdade-cgesp
END:VEVENT
BEGIN:VTIMEZONE
TZID:Brazil/East
X-LIC-LOCATION:Brazil/East
BEGIN:STANDARD
DTSTART;VALUE=DATE-TIME:20190216T230000
TZNAME:BRT
TZOFFSETFROM:-0200
TZOFFSETTO:-0300
END:STANDARD
END:VTIMEZONE
END:VCALENDAR
