BEGIN:VCALENDAR
VERSION:2.0
PRODID:-//Plone.org//NONSGML plone.app.event//EN
X-WR-TIMEZONE:Brazil/East
BEGIN:VEVENT
SUMMARY:PALESTRA MAIO LARANJA: COMO IDENTIFICAR CRIANÇAS E ADOLESCENTES V
 ÍTIMAS DE VIOLÊNCIA SEXUAL E COMO BUSCAR AJUDA.
DTSTART;TZID=Brazil/East;VALUE=DATE-TIME:20230526T090000
DTEND;TZID=Brazil/East;VALUE=DATE-TIME:20230526T120000
DTSTAMP;VALUE=DATE-TIME:20260423T014439Z
UID:e400347c1dbf4d7384d53f4973580bc5@www.goiania.go.leg.br
CONTACT:MILKA REZENDE
CREATED;VALUE=DATE-TIME:20230512T103446Z
LAST-MODIFIED;VALUE=DATE-TIME:20230512T103546Z
LOCATION:AUDITÓRIO CARLOS EURICO
URL:https://www.goiania.go.leg.br/sala-de-imprensa/eventos/palestra-maio-l
 aranja-como-identificar-criancas-e-adolescentes-vitimas-de-violencia-sexua
 l-e-como-buscar-ajuda
END:VEVENT
BEGIN:VTIMEZONE
TZID:Brazil/East
X-LIC-LOCATION:Brazil/East
BEGIN:STANDARD
DTSTART;VALUE=DATE-TIME:20230225T230000
TZNAME:BRT
TZOFFSETFROM:-0200
TZOFFSETTO:-0300
END:STANDARD
END:VTIMEZONE
END:VCALENDAR
