BEGIN:VCALENDAR
VERSION:2.0
PRODID:-//Plone.org//NONSGML plone.app.event//EN
X-WR-TIMEZONE:Brazil/East
BEGIN:VEVENT
SUMMARY:PALESTRA LEI BRASILEIRA DE INCLUSÃO: UM NOVO OLHAR PARA MAIS DE 4
 5 MILHÕES DE BRASILEIROS.
DTSTART;TZID=Brazil/East;VALUE=DATE-TIME:20211119T090000
DTEND;TZID=Brazil/East;VALUE=DATE-TIME:20211119T110000
DTSTAMP;VALUE=DATE-TIME:20260423T082812Z
UID:3d7aedef1c6b4ff4b2e8464dd36a5e9b@www.goiania.go.leg.br
CONTACT:MILKA REZENDE
CREATED;VALUE=DATE-TIME:20211116T195725Z
LAST-MODIFIED;VALUE=DATE-TIME:20211116T195736Z
LOCATION:AUDITÓRIO CARLOS EURICO
URL:https://www.goiania.go.leg.br/sala-de-imprensa/eventos/palestra-lei-br
 asileira-de-inclusao-um-novo-olhar-para-mais-de-45-milhoes-de-brasileiros-
 1
END:VEVENT
BEGIN:VTIMEZONE
TZID:Brazil/East
X-LIC-LOCATION:Brazil/East
BEGIN:DAYLIGHT
DTSTART;VALUE=DATE-TIME:20211017T010000
TZNAME:BRST
TZOFFSETFROM:-0300
TZOFFSETTO:-0200
END:DAYLIGHT
END:VTIMEZONE
END:VCALENDAR
