BEGIN:VCALENDAR
VERSION:2.0
PRODID:-//Plone.org//NONSGML plone.app.event//EN
X-WR-TIMEZONE:Brazil/East
BEGIN:VEVENT
SUMMARY:PALESTRA INTELIGENCIA EMOCIAL PARA OS PAIS.
DTSTART;TZID=Brazil/East;VALUE=DATE-TIME:20240527T140000
DTEND;TZID=Brazil/East;VALUE=DATE-TIME:20240527T170000
DTSTAMP;VALUE=DATE-TIME:20260423T014334Z
UID:61f20df82f224a60821a61df5d6775d9@www.goiania.go.leg.br
CONTACT:VEREADOR WELTON LEMOS
CREATED;VALUE=DATE-TIME:20240522T200423Z
LAST-MODIFIED;VALUE=DATE-TIME:20240522T201714Z
LOCATION:AUDITÓRIO CARLOS EURICO
URL:https://www.goiania.go.leg.br/sala-de-imprensa/eventos/palestra-inteli
 gencia-emocial-para-os-pais
END:VEVENT
BEGIN:VTIMEZONE
TZID:Brazil/East
X-LIC-LOCATION:Brazil/East
BEGIN:STANDARD
DTSTART;VALUE=DATE-TIME:20240217T230000
TZNAME:BRT
TZOFFSETFROM:-0200
TZOFFSETTO:-0300
END:STANDARD
END:VTIMEZONE
END:VCALENDAR
