BEGIN:VCALENDAR
VERSION:2.0
PRODID:-//Plone.org//NONSGML plone.app.event//EN
X-WR-TIMEZONE:Brazil/East
BEGIN:VEVENT
SUMMARY:PALESTRA GRATUITA SOBRE PLANEJAMENTO FINANCEIRO.
DTSTART;TZID=Brazil/East;VALUE=DATE-TIME:20180518T190000
DTEND;TZID=Brazil/East;VALUE=DATE-TIME:20180518T220000
DTSTAMP;VALUE=DATE-TIME:20260423T014347Z
UID:34e655bc91134672b52b6adb72657d3b@www.goiania.go.leg.br
CONTACT:VEREADOR DELEGADO EDUARDO PRADO
CREATED;VALUE=DATE-TIME:20180403T124935Z
LAST-MODIFIED;VALUE=DATE-TIME:20180403T125001Z
LOCATION:AUDITÓRIO CARLOS EURICO
URL:https://www.goiania.go.leg.br/sala-de-imprensa/eventos/palestra-gratui
 ta-sobre-planejamento-financeiro
END:VEVENT
BEGIN:VTIMEZONE
TZID:Brazil/East
X-LIC-LOCATION:Brazil/East
BEGIN:STANDARD
DTSTART;VALUE=DATE-TIME:20180217T230000
TZNAME:BRT
TZOFFSETFROM:-0200
TZOFFSETTO:-0300
END:STANDARD
END:VTIMEZONE
END:VCALENDAR
