BEGIN:VCALENDAR
VERSION:2.0
PRODID:-//Plone.org//NONSGML plone.app.event//EN
X-WR-TIMEZONE:Brazil/East
BEGIN:VEVENT
SUMMARY:PALESTRA EMPREGABILIDADE\, MERCADO DE TRABALHO.
DTSTART;TZID=Brazil/East;VALUE=DATE-TIME:20180310T090000
DTEND;TZID=Brazil/East;VALUE=DATE-TIME:20180310T140000
DTSTAMP;VALUE=DATE-TIME:20260423T014320Z
UID:8b97e61c36174ef0a50aece3a50bfdad@www.goiania.go.leg.br
CONTACT:VEREADOR LUCAS KITÃO
CREATED;VALUE=DATE-TIME:20180306T132746Z
LAST-MODIFIED;VALUE=DATE-TIME:20180306T132755Z
LOCATION:AUDITÓRIO CARLOS EURICO
URL:https://www.goiania.go.leg.br/sala-de-imprensa/eventos/palestra-empreg
 abilidade-mercado-de-trabalho
END:VEVENT
BEGIN:VTIMEZONE
TZID:Brazil/East
X-LIC-LOCATION:Brazil/East
BEGIN:STANDARD
DTSTART;VALUE=DATE-TIME:20180217T230000
TZNAME:BRT
TZOFFSETFROM:-0200
TZOFFSETTO:-0300
END:STANDARD
END:VTIMEZONE
END:VCALENDAR
