BEGIN:VCALENDAR
VERSION:2.0
PRODID:-//Plone.org//NONSGML plone.app.event//EN
X-WR-TIMEZONE:Brazil/East
BEGIN:VEVENT
SUMMARY:PALESTRA DO PROGRAMA VEREADORA POR UM DIA.
DTSTART;TZID=Brazil/East;VALUE=DATE-TIME:20260326T100000
DTEND;TZID=Brazil/East;VALUE=DATE-TIME:20260326T150000
DTSTAMP;VALUE=DATE-TIME:20260420T033507Z
UID:8dfa75b6c31a4031b96c02fdfa2f8439@www.goiania.go.leg.br
CONTACT:ASSESSORIA DO PARLAMENTO JOVEM
CREATED;VALUE=DATE-TIME:20260305T212424Z
LAST-MODIFIED;VALUE=DATE-TIME:20260305T212436Z
LOCATION:AUDITÓRIO CARLOS EURICO
URL:https://www.goiania.go.leg.br/sala-de-imprensa/eventos/palestra-do-pro
 grama-vereadora-por-um-dia
END:VEVENT
BEGIN:VTIMEZONE
TZID:Brazil/East
X-LIC-LOCATION:Brazil/East
BEGIN:STANDARD
DTSTART;VALUE=DATE-TIME:20260221T230000
TZNAME:BRT
TZOFFSETFROM:-0200
TZOFFSETTO:-0300
END:STANDARD
END:VTIMEZONE
END:VCALENDAR
