BEGIN:VCALENDAR
VERSION:2.0
PRODID:-//Plone.org//NONSGML plone.app.event//EN
X-WR-TIMEZONE:Brazil/East
BEGIN:VEVENT
SUMMARY:PALESTRA DE GESTÃO DE TEMPO: PERFORMANCE E PRODUTIVIDADE 
DTSTART;TZID=Brazil/East;VALUE=DATE-TIME:20180815T190000
DTEND;TZID=Brazil/East;VALUE=DATE-TIME:20180815T220000
DTSTAMP;VALUE=DATE-TIME:20260423T014246Z
UID:3c40be09f06b471d88799f34d6ea18ae@www.goiania.go.leg.br
CONTACT:VEREADOR PAULINHO GRAUS
CREATED;VALUE=DATE-TIME:20180801T151718Z
LAST-MODIFIED;VALUE=DATE-TIME:20180801T151728Z
LOCATION:AUDITÓRIO CARLOS EURICO
URL:https://www.goiania.go.leg.br/sala-de-imprensa/eventos/palestra-de-ges
 tao-de-tempo-performance-e-produtividade
END:VEVENT
BEGIN:VTIMEZONE
TZID:Brazil/East
X-LIC-LOCATION:Brazil/East
BEGIN:STANDARD
DTSTART;VALUE=DATE-TIME:20180217T230000
TZNAME:BRT
TZOFFSETFROM:-0200
TZOFFSETTO:-0300
END:STANDARD
END:VTIMEZONE
END:VCALENDAR
