BEGIN:VCALENDAR
VERSION:2.0
PRODID:-//Plone.org//NONSGML plone.app.event//EN
X-WR-TIMEZONE:Brazil/East
BEGIN:VEVENT
SUMMARY:PALESTRA COM O TEMA WEBINAR SOBRE ESTRATEGIA DIGITAIS E REDES SOCI
 AIS NAS ELEIÇÕES 2020.
DTSTART;TZID=Brazil/East;VALUE=DATE-TIME:20200831T160000
DTEND;TZID=Brazil/East;VALUE=DATE-TIME:20200831T210000
DTSTAMP;VALUE=DATE-TIME:20260423T014745Z
UID:c9f5c81f696548488e5f71c212c4fb29@www.goiania.go.leg.br
CONTACT:VEREADOR ANSELMO PEREIRA
CREATED;VALUE=DATE-TIME:20200824T120207Z
LAST-MODIFIED;VALUE=DATE-TIME:20200824T120339Z
LOCATION:PLENÁRIO TRAJANO GUIMARÃES
URL:https://www.goiania.go.leg.br/sala-de-imprensa/eventos/palestra-com-o-
 tema-webinar-sobre-estrategia-digitais-e-redes-sociais-nas-eleicoes-2020
END:VEVENT
BEGIN:VTIMEZONE
TZID:Brazil/East
X-LIC-LOCATION:Brazil/East
BEGIN:STANDARD
DTSTART;VALUE=DATE-TIME:20200215T230000
TZNAME:BRT
TZOFFSETFROM:-0200
TZOFFSETTO:-0300
END:STANDARD
END:VTIMEZONE
END:VCALENDAR
