BEGIN:VCALENDAR
VERSION:2.0
PRODID:-//Plone.org//NONSGML plone.app.event//EN
X-WR-TIMEZONE:Brazil/East
BEGIN:VEVENT
SUMMARY:PALESTRA COM O TEMA: "ENVELHECER NÃO SIGNIFICA ADOECER".
DTSTART;TZID=Brazil/East;VALUE=DATE-TIME:20211022T090000
DTEND;TZID=Brazil/East;VALUE=DATE-TIME:20211022T120000
DTSTAMP;VALUE=DATE-TIME:20260423T014344Z
UID:35225575717c4faba72e82f7b358ce95@www.goiania.go.leg.br
CONTACT:VEREADOR ISAÍAS RIBEIRO
CREATED;VALUE=DATE-TIME:20211013T132835Z
LAST-MODIFIED;VALUE=DATE-TIME:20211013T132851Z
LOCATION:AUDITÓRIO CARLOS EURICO
URL:https://www.goiania.go.leg.br/sala-de-imprensa/eventos/palestra-com-o-
 tema-envelhecer-nao-significa-adoecer
END:VEVENT
BEGIN:VTIMEZONE
TZID:Brazil/East
X-LIC-LOCATION:Brazil/East
BEGIN:DAYLIGHT
DTSTART;VALUE=DATE-TIME:20211017T010000
TZNAME:BRST
TZOFFSETFROM:-0300
TZOFFSETTO:-0200
END:DAYLIGHT
END:VTIMEZONE
END:VCALENDAR
