BEGIN:VCALENDAR
VERSION:2.0
PRODID:-//Plone.org//NONSGML plone.app.event//EN
X-WR-TIMEZONE:Brazil/East
BEGIN:VEVENT
SUMMARY:PALESTRA COM A DIRETORIA LEGISLATIVA E APRECIAÇÃO DOS PROJETOS D
 E LEIS DOS PARLAMENTARES JOVENS\, PASTICIPANTES DO PROGRAMA PARLAMENTO JOV
 EM/2024.
DTSTART;TZID=Brazil/East;VALUE=DATE-TIME:20240611T130000
DTEND;TZID=Brazil/East;VALUE=DATE-TIME:20240612T160000
DTSTAMP;VALUE=DATE-TIME:20260423T001830Z
UID:8443fb001eec48289e2b549aa7b0169a@www.goiania.go.leg.br
CONTACT:COORDENAÇÃO DO PARLAMENTO JOVEM
CREATED;VALUE=DATE-TIME:20240522T200030Z
LAST-MODIFIED;VALUE=DATE-TIME:20240522T200046Z
LOCATION:PLENÁRIO TRAJANO GUIMARÃES
URL:https://www.goiania.go.leg.br/sala-de-imprensa/eventos/palestra-com-a-
 diretoria-legislativa-e-apreciacao-dos-projetos-de-leis-dos-parlamentares-
 jovens-pasticipantes-do-programa-parlamento-jovem-2024
END:VEVENT
BEGIN:VTIMEZONE
TZID:Brazil/East
X-LIC-LOCATION:Brazil/East
BEGIN:STANDARD
DTSTART;VALUE=DATE-TIME:20240217T230000
TZNAME:BRT
TZOFFSETFROM:-0200
TZOFFSETTO:-0300
END:STANDARD
END:VTIMEZONE
END:VCALENDAR
