BEGIN:VCALENDAR
VERSION:2.0
PRODID:-//Plone.org//NONSGML plone.app.event//EN
X-WR-TIMEZONE:Brazil/East
BEGIN:VEVENT
SUMMARY:OLIMPÍADA DO CONHECIMENTO COM OS ALUNOS DAS ESCOLAS ADVENTISTA DA
  CAPITAL E ANÁPOLIS.
DTSTART;TZID=Brazil/East;VALUE=DATE-TIME:20180919T120000
DTEND;TZID=Brazil/East;VALUE=DATE-TIME:20180919T200000
DTSTAMP;VALUE=DATE-TIME:20260425T082023Z
UID:ca3bd6ae061e42968d4a1085f2916fa7@www.goiania.go.leg.br
CONTACT:VEREADOR CABO SENNA
CREATED;VALUE=DATE-TIME:20180215T111547Z
LAST-MODIFIED;VALUE=DATE-TIME:20180828T131747Z
LOCATION:AUDITÓRIO JAIME CÂMARA
URL:https://www.goiania.go.leg.br/sala-de-imprensa/eventos/olimpiada-do-co
 nhecimento-com-os-alunos-das-escolas-adventista-da-capital-e-anapolis
END:VEVENT
BEGIN:VTIMEZONE
TZID:Brazil/East
X-LIC-LOCATION:Brazil/East
BEGIN:STANDARD
DTSTART;VALUE=DATE-TIME:20180217T230000
TZNAME:BRT
TZOFFSETFROM:-0200
TZOFFSETTO:-0300
END:STANDARD
END:VTIMEZONE
END:VCALENDAR
