BEGIN:VCALENDAR
VERSION:2.0
PRODID:-//Plone.org//NONSGML plone.app.event//EN
X-WR-TIMEZONE:Brazil/East
BEGIN:VEVENT
SUMMARY:OITAVA DA CEI DA SEMAS/BOLSA FAMÍLIA.
DTSTART;TZID=Brazil/East;VALUE=DATE-TIME:20190627T090000
DTEND;TZID=Brazil/East;VALUE=DATE-TIME:20190627T120000
DTSTAMP;VALUE=DATE-TIME:20260424T070008Z
UID:7454132e41034595b3f3620c49df16ba@www.goiania.go.leg.br
CONTACT:VEREADOR FELISBERTO TAVARES
CREATED;VALUE=DATE-TIME:20190626T222803Z
LAST-MODIFIED;VALUE=DATE-TIME:20190626T222809Z
LOCATION:SALA DE REUNIÃO DA PRESIDÊNCIA
URL:https://www.goiania.go.leg.br/sala-de-imprensa/eventos/oitava-da-cei-d
 a-semas-bolsa-familia
END:VEVENT
BEGIN:VTIMEZONE
TZID:Brazil/East
X-LIC-LOCATION:Brazil/East
BEGIN:STANDARD
DTSTART;VALUE=DATE-TIME:20190216T230000
TZNAME:BRT
TZOFFSETFROM:-0200
TZOFFSETTO:-0300
END:STANDARD
END:VTIMEZONE
END:VCALENDAR
