BEGIN:VCALENDAR
VERSION:2.0
PRODID:-//Plone.org//NONSGML plone.app.event//EN
X-WR-TIMEZONE:Brazil/East
BEGIN:VEVENT
SUMMARY:OFICINAS CONSTITUTIVAS DA CONFERÊNCIA ESTADUAL DE ASSITÊNCIA SOC
 IAL.
DTSTART;TZID=Brazil/East;VALUE=DATE-TIME:20191017T130000
DTEND;TZID=Brazil/East;VALUE=DATE-TIME:20191017T180000
DTSTAMP;VALUE=DATE-TIME:20260422T015717Z
UID:37cdb977873c4030b51aff3b8917512f@www.goiania.go.leg.br
CONTACT:VEREADORA DRA. CRISTINA LOPES AFONSO
CREATED;VALUE=DATE-TIME:20190911T145149Z
LAST-MODIFIED;VALUE=DATE-TIME:20190911T145204Z
LOCATION:SALA DE REUNIÃO DA PRESIDÊNCIA
URL:https://www.goiania.go.leg.br/sala-de-imprensa/eventos/oficinas-consti
 tutivas-da-conferencia-estadual-de-assitencia-social
END:VEVENT
BEGIN:VTIMEZONE
TZID:Brazil/East
X-LIC-LOCATION:Brazil/East
BEGIN:STANDARD
DTSTART;VALUE=DATE-TIME:20190216T230000
TZNAME:BRT
TZOFFSETFROM:-0200
TZOFFSETTO:-0300
END:STANDARD
END:VTIMEZONE
END:VCALENDAR
