BEGIN:VCALENDAR
VERSION:2.0
PRODID:-//Plone.org//NONSGML plone.app.event//EN
X-WR-TIMEZONE:Brazil/East
BEGIN:VEVENT
SUMMARY:OFICINA "PLANO DIRETOR E SEUS ASPECTOS VITAIS: MOBILIDADE\, PARCEL
 AMENTO DO SOLO E MANUSEIO DE RESÍDUOS SÓLIDOS.
DTSTART;TZID=Brazil/East;VALUE=DATE-TIME:20170925T083000
DTEND;TZID=Brazil/East;VALUE=DATE-TIME:20170925T123000
DTSTAMP;VALUE=DATE-TIME:20260422T212909Z
UID:5267be99d135418497d89ffef4581d77@www.goiania.go.leg.br
CONTACT:VEREADOR ANDREY AZEREDO
CREATED;VALUE=DATE-TIME:20171208T111313Z
LAST-MODIFIED;VALUE=DATE-TIME:20171208T112941Z
LOCATION:AUDITÓRIO CARLOS EURICO
URL:https://www.goiania.go.leg.br/sala-de-imprensa/eventos/oficina-plano-d
 iretor-e-seus-aspectos-vitais-mobilidade-parcelamento-do-solo-e-manuseio-d
 e-residuos-solidos
END:VEVENT
BEGIN:VTIMEZONE
TZID:Brazil/East
X-LIC-LOCATION:Brazil/East
BEGIN:STANDARD
DTSTART;VALUE=DATE-TIME:20170218T230000
TZNAME:BRT
TZOFFSETFROM:-0200
TZOFFSETTO:-0300
END:STANDARD
END:VTIMEZONE
END:VCALENDAR
