BEGIN:VCALENDAR
VERSION:2.0
PRODID:-//Plone.org//NONSGML plone.app.event//EN
X-WR-TIMEZONE:Brazil/East
BEGIN:VEVENT
SUMMARY:OFICINA EM FINANÇAS PESSOAIS: CONTROLE DE ORÇAMENTO E OPÇÕES D
 E INVESTIMENTOS.
DTSTART;TZID=Brazil/East;VALUE=DATE-TIME:20230707T080000
DTEND;TZID=Brazil/East;VALUE=DATE-TIME:20230707T120000
DTSTAMP;VALUE=DATE-TIME:20260422T083210Z
UID:ebe307c29f4d47b1825607508513158c@www.goiania.go.leg.br
CONTACT:MILKA REZENDE
CREATED;VALUE=DATE-TIME:20230626T140737Z
LAST-MODIFIED;VALUE=DATE-TIME:20230703T194822Z
LOCATION:Auditório Carlos Eurico
URL:https://www.goiania.go.leg.br/sala-de-imprensa/eventos/oficina-em-fina
 ncas-pessoais-controle-de-orcamento-e-opcoes-de-investimentos
END:VEVENT
BEGIN:VTIMEZONE
TZID:Brazil/East
X-LIC-LOCATION:Brazil/East
BEGIN:STANDARD
DTSTART;VALUE=DATE-TIME:20230225T230000
TZNAME:BRT
TZOFFSETFROM:-0200
TZOFFSETTO:-0300
END:STANDARD
END:VTIMEZONE
END:VCALENDAR
