BEGIN:VCALENDAR
VERSION:2.0
PRODID:-//Plone.org//NONSGML plone.app.event//EN
X-WR-TIMEZONE:Brazil/East
BEGIN:VEVENT
SUMMARY:OBJETIVO DE REALIZAR OS TRABALHOS COM AS INSITUIÇÕES PASTICIPANT
 ES DO PROGRAMA PARLAMENTO JOVEM/2024.
DTSTART;TZID=Brazil/East;VALUE=DATE-TIME:20240612T130000
DTEND;TZID=Brazil/East;VALUE=DATE-TIME:20240612T160000
DTSTAMP;VALUE=DATE-TIME:20260421T013354Z
UID:369d91c7cdc340c0b70db51c8faec61e@www.goiania.go.leg.br
CONTACT:COORDENAÇÃO DO PARLAMENTO JOVEM
CREATED;VALUE=DATE-TIME:20240223T153000Z
LAST-MODIFIED;VALUE=DATE-TIME:20240223T153017Z
LOCATION:PLENÁRIO TRAJANO GUIMARÃES
URL:https://www.goiania.go.leg.br/sala-de-imprensa/eventos/objetivo-de-rea
 lizar-os-trabalhos-com-as-insituicoes-pasticipantes-do-programa-parlamento
 -jovem-2024-2
END:VEVENT
BEGIN:VTIMEZONE
TZID:Brazil/East
X-LIC-LOCATION:Brazil/East
BEGIN:STANDARD
DTSTART;VALUE=DATE-TIME:20240217T230000
TZNAME:BRT
TZOFFSETFROM:-0200
TZOFFSETTO:-0300
END:STANDARD
END:VTIMEZONE
END:VCALENDAR
