BEGIN:VCALENDAR
VERSION:2.0
PRODID:-//Plone.org//NONSGML plone.app.event//EN
X-WR-TIMEZONE:Brazil/East
BEGIN:VEVENT
SUMMARY:MOÇÃO DE APLAUSOS POR ATO DE BRAVURA DO TENENTE JOSÉ IRISMÁ E 
 SOLDADO PEDRO DA SILVA.
DTSTART;TZID=Brazil/East;VALUE=DATE-TIME:20201215T100000
DTEND;TZID=Brazil/East;VALUE=DATE-TIME:20201215T120000
DTSTAMP;VALUE=DATE-TIME:20260419T094318Z
UID:47dfd7f64da94d30ae6bf526e25ae54a@www.goiania.go.leg.br
CONTACT:VEREADOR ANSELMO PEREIRA
CREATED;VALUE=DATE-TIME:20201214T105816Z
LAST-MODIFIED;VALUE=DATE-TIME:20201214T105832Z
LOCATION:PLENÁRIO TRAJANO GUIMARÃES
URL:https://www.goiania.go.leg.br/sala-de-imprensa/eventos/mocao-de-aplaus
 os-por-ato-de-bravura-do-tenente-jose-irisma-e-soldado-pedro-da-silva
END:VEVENT
BEGIN:VTIMEZONE
TZID:Brazil/East
X-LIC-LOCATION:Brazil/East
BEGIN:DAYLIGHT
DTSTART;VALUE=DATE-TIME:20201018T010000
TZNAME:BRST
TZOFFSETFROM:-0300
TZOFFSETTO:-0200
END:DAYLIGHT
END:VTIMEZONE
END:VCALENDAR
