BEGIN:VCALENDAR
VERSION:2.0
PRODID:-//Plone.org//NONSGML plone.app.event//EN
X-WR-TIMEZONE:Brazil/East
BEGIN:VEVENT
SUMMARY:MOÇÃO DE APLAUSOS PARA SAMIRA BUHRER E NARIANE MARTINS DE ARAÚJ
 O\, POR SEUS BRILHANTES TRABALHOS DE ESTUDOS E PESQUISAS AO TESTE RÁPIDO 
 BASEADO NA TÉCNICA DE IMUNOCINTILOGRAFIA DE FLUXO LATERAL PARA DIAGNÓSTI
 CO DE HANSENÍASE.
DTSTART;TZID=Brazil/East;VALUE=DATE-TIME:20230309T100000
DTEND;TZID=Brazil/East;VALUE=DATE-TIME:20230309T120000
DTSTAMP;VALUE=DATE-TIME:20260424T070118Z
UID:f1ea9018cf7e4fa7b9872641bd84267c@www.goiania.go.leg.br
CONTACT:VEREADOR ANSELMO PEREIRA
CREATED;VALUE=DATE-TIME:20230303T111955Z
LAST-MODIFIED;VALUE=DATE-TIME:20230303T112007Z
LOCATION:PLENÁRIO TRAJANO GUIMARÃES
URL:https://www.goiania.go.leg.br/sala-de-imprensa/eventos/mocao-de-aplaus
 os-para-samira-buhrer-e-nariane-martins-de-araujo-por-seus-brilhantes-trab
 alhos-de-estudos-e-pesquisas-ao-teste-rapido-baseado-na-tecnica-de-imunoci
 ntilografia-de-fluxo-lateral-para-diagnostico-de-hanseniase
END:VEVENT
BEGIN:VTIMEZONE
TZID:Brazil/East
X-LIC-LOCATION:Brazil/East
BEGIN:STANDARD
DTSTART;VALUE=DATE-TIME:20230225T230000
TZNAME:BRT
TZOFFSETFROM:-0200
TZOFFSETTO:-0300
END:STANDARD
END:VTIMEZONE
END:VCALENDAR
