BEGIN:VCALENDAR
VERSION:2.0
PRODID:-//Plone.org//NONSGML plone.app.event//EN
X-WR-TIMEZONE:Brazil/East
BEGIN:VEVENT
SUMMARY:MOÇÃO DE APLAUSOS PARA OS MILITARES LOTADOS NO 1º BATALHÃO DE 
 POLÍCIA MILITAR DO ESTADO DE GOIÁS.
DTSTART;TZID=Brazil/East;VALUE=DATE-TIME:20200319T100000
DTEND;TZID=Brazil/East;VALUE=DATE-TIME:20200319T120000
DTSTAMP;VALUE=DATE-TIME:20260421T095727Z
UID:d8588959cfe54410ac4d8c9d17326d59@www.goiania.go.leg.br
CONTACT:VEREADOR CABO SENNA
CREATED;VALUE=DATE-TIME:20200212T142810Z
LAST-MODIFIED;VALUE=DATE-TIME:20200227T135315Z
LOCATION:PLENÁRIO TRAJANO GUIMARÃES
URL:https://www.goiania.go.leg.br/sala-de-imprensa/eventos/mocao-de-aplaus
 os-para-os-militares-lotados-no-1o-batalhao-de-policia-militar-do-estado-d
 e-goias
END:VEVENT
BEGIN:VTIMEZONE
TZID:Brazil/East
X-LIC-LOCATION:Brazil/East
BEGIN:STANDARD
DTSTART;VALUE=DATE-TIME:20200215T230000
TZNAME:BRT
TZOFFSETFROM:-0200
TZOFFSETTO:-0300
END:STANDARD
END:VTIMEZONE
END:VCALENDAR
