BEGIN:VCALENDAR
VERSION:2.0
PRODID:-//Plone.org//NONSGML plone.app.event//EN
X-WR-TIMEZONE:Brazil/East
BEGIN:VEVENT
SUMMARY:MOÇÃO DE APLAUSOS PARA O SENHOR DELCIDES RIBEIRO DE FREITAS E AO
  SENHOR JAIR DOS SANTOS.
DTSTART;TZID=Brazil/East;VALUE=DATE-TIME:20230928T100000
DTEND;TZID=Brazil/East;VALUE=DATE-TIME:20230928T120000
DTSTAMP;VALUE=DATE-TIME:20260422T200014Z
UID:64639df2dfa44c4186fac4a4aae8563d@www.goiania.go.leg.br
CONTACT:VEREADOR IGOR FRANCO
CREATED;VALUE=DATE-TIME:20230825T114957Z
LAST-MODIFIED;VALUE=DATE-TIME:20230825T115007Z
LOCATION:PLENÁRIO TRAJANO GUIMARÃES
URL:https://www.goiania.go.leg.br/sala-de-imprensa/eventos/mocao-de-aplaus
 os-para-o-senhor-delcides-ribeiro-de-freitas-e-ao-senhor-jair-dos-santos
END:VEVENT
BEGIN:VTIMEZONE
TZID:Brazil/East
X-LIC-LOCATION:Brazil/East
BEGIN:STANDARD
DTSTART;VALUE=DATE-TIME:20230225T230000
TZNAME:BRT
TZOFFSETFROM:-0200
TZOFFSETTO:-0300
END:STANDARD
END:VTIMEZONE
END:VCALENDAR
